BEGIN:VCALENDAR
VERSION:2.0
PRODID:icalendar-ruby
CALSCALE:GREGORIAN
METHOD:PUBLISH
BEGIN:VEVENT
DTSTAMP:20260424T142550Z
UID:http://www.baysidebeaches.com.au/property?property_id=693410
DTSTART:20210313T113000
DTEND:20210313T120000
CLASS:PUBLIC
CREATED:20210210T114359
DESCRIPTION: 
LAST-MODIFIED:20240306T121700
LOCATION:1A Cremona Street\, MENTONE VIC 3194\, Australia
SUMMARY:1A Cremona Street\,  Auction
URL;VALUE=URI:http://www.baysidebeaches.com.au/property?property_id=693410
END:VEVENT
END:VCALENDAR
